BEGIN:VCALENDAR
VERSION:2.0
PRODID:-//TC GARSTEDT - ECPv6.15.20//NONSGML v1.0//EN
CALSCALE:GREGORIAN
METHOD:PUBLISH
X-ORIGINAL-URL:https://www.tcgarstedt.de
X-WR-CALDESC:Veranstaltungen für TC GARSTEDT
REFRESH-INTERVAL;VALUE=DURATION:PT1H
X-Robots-Tag:noindex
X-PUBLISHED-TTL:PT1H
BEGIN:VTIMEZONE
TZID:Europe/Berlin
BEGIN:DAYLIGHT
TZOFFSETFROM:+0100
TZOFFSETTO:+0200
TZNAME:CEST
DTSTART:20190331T010000
END:DAYLIGHT
BEGIN:STANDARD
TZOFFSETFROM:+0200
TZOFFSETTO:+0100
TZNAME:CET
DTSTART:20191027T010000
END:STANDARD
BEGIN:DAYLIGHT
TZOFFSETFROM:+0100
TZOFFSETTO:+0200
TZNAME:CEST
DTSTART:20200329T010000
END:DAYLIGHT
BEGIN:STANDARD
TZOFFSETFROM:+0200
TZOFFSETTO:+0100
TZNAME:CET
DTSTART:20201025T010000
END:STANDARD
BEGIN:DAYLIGHT
TZOFFSETFROM:+0100
TZOFFSETTO:+0200
TZNAME:CEST
DTSTART:20210328T010000
END:DAYLIGHT
BEGIN:STANDARD
TZOFFSETFROM:+0200
TZOFFSETTO:+0100
TZNAME:CET
DTSTART:20211031T010000
END:STANDARD
END:VTIMEZONE
BEGIN:VEVENT
DTSTART;TZID=Europe/Berlin:20201107T100000
DTEND;TZID=Europe/Berlin:20201107T140000
DTSTAMP:20260423T235212
CREATED:20200305T003836Z
LAST-MODIFIED:20201026T115006Z
UID:5777-1604743200-1604757600@www.tcgarstedt.de
SUMMARY:2. Herbstputz 2020
DESCRIPTION:
URL:https://www.tcgarstedt.de/event/2-fruehjahrsputz/
LOCATION:TC Garstedt\, Ochsenzoller Str. 64b\, Norderstedt\, 22848\, Deutschland
END:VEVENT
BEGIN:VEVENT
DTSTART;TZID=Europe/Berlin:20201115T170000
DTEND;TZID=Europe/Berlin:20201115T200000
DTSTAMP:20260423T235212
CREATED:20201026T115250Z
LAST-MODIFIED:20201026T115250Z
UID:6043-1605459600-1605470400@www.tcgarstedt.de
SUMMARY:Außerordentliche Mitgliederversammlung 2020
DESCRIPTION:
URL:https://www.tcgarstedt.de/event/ausserordentliche-mitgliederversammlung-2020/
LOCATION:TC Garstedt\, Ochsenzoller Str. 64b\, Norderstedt\, 22848\, Deutschland
END:VEVENT
END:VCALENDAR