BEGIN:VCALENDAR
VERSION:2.0
PRODID:-//TC GARSTEDT - ECPv6.15.20//NONSGML v1.0//EN
CALSCALE:GREGORIAN
METHOD:PUBLISH
X-WR-CALNAME:TC GARSTEDT
X-ORIGINAL-URL:https://www.tcgarstedt.de
X-WR-CALDESC:Veranstaltungen für TC GARSTEDT
REFRESH-INTERVAL;VALUE=DURATION:PT1H
X-Robots-Tag:noindex
X-PUBLISHED-TTL:PT1H
BEGIN:VTIMEZONE
TZID:Europe/Berlin
BEGIN:DAYLIGHT
TZOFFSETFROM:+0100
TZOFFSETTO:+0200
TZNAME:CEST
DTSTART:20240331T010000
END:DAYLIGHT
BEGIN:STANDARD
TZOFFSETFROM:+0200
TZOFFSETTO:+0100
TZNAME:CET
DTSTART:20241027T010000
END:STANDARD
BEGIN:DAYLIGHT
TZOFFSETFROM:+0100
TZOFFSETTO:+0200
TZNAME:CEST
DTSTART:20250330T010000
END:DAYLIGHT
BEGIN:STANDARD
TZOFFSETFROM:+0200
TZOFFSETTO:+0100
TZNAME:CET
DTSTART:20251026T010000
END:STANDARD
BEGIN:DAYLIGHT
TZOFFSETFROM:+0100
TZOFFSETTO:+0200
TZNAME:CEST
DTSTART:20260329T010000
END:DAYLIGHT
BEGIN:STANDARD
TZOFFSETFROM:+0200
TZOFFSETTO:+0100
TZNAME:CET
DTSTART:20261025T010000
END:STANDARD
END:VTIMEZONE
BEGIN:VEVENT
DTSTART;TZID=Europe/Berlin:20251108T153000
DTEND;TZID=Europe/Berlin:20251108T171500
DTSTAMP:20260424T174208
CREATED:20251105T223359Z
LAST-MODIFIED:20251105T223359Z
UID:7421-1762615800-1762622100@www.tcgarstedt.de
SUMMARY:Matchday HSV - Dortmund
DESCRIPTION:
URL:https://www.tcgarstedt.de/event/matchday-hsv-dortmund/
LOCATION:TC Garstedt\, Ochsenzoller Str. 64b\, Norderstedt\, 22848\, Deutschland
END:VEVENT
BEGIN:VEVENT
DTSTART;TZID=Europe/Berlin:20251114T200000
DTEND;TZID=Europe/Berlin:20251114T233000
DTSTAMP:20260424T174208
CREATED:20251105T222159Z
LAST-MODIFIED:20251105T222522Z
UID:7414-1763150400-1763163000@www.tcgarstedt.de
SUMMARY:Oktoberfest 2025
DESCRIPTION:
URL:https://www.tcgarstedt.de/event/oktoberfest-2025/
LOCATION:TC Garstedt\, Ochsenzoller Str. 64b\, Norderstedt\, 22848\, Deutschland
CATEGORIES:Schlagzeilen
ATTACH;FMTTYPE=image/jpeg:https://www.tcgarstedt.de/wp-content/uploads/Oktoberfest_2025.jpg
END:VEVENT
END:VCALENDAR