BEGIN:VCALENDAR
VERSION:2.0
PRODID:-//TC GARSTEDT - ECPv6.15.20//NONSGML v1.0//EN
CALSCALE:GREGORIAN
METHOD:PUBLISH
X-WR-CALNAME:TC GARSTEDT
X-ORIGINAL-URL:https://www.tcgarstedt.de
X-WR-CALDESC:Veranstaltungen für TC GARSTEDT
REFRESH-INTERVAL;VALUE=DURATION:PT1H
X-Robots-Tag:noindex
X-PUBLISHED-TTL:PT1H
BEGIN:VTIMEZONE
TZID:Europe/Berlin
BEGIN:DAYLIGHT
TZOFFSETFROM:+0100
TZOFFSETTO:+0200
TZNAME:CEST
DTSTART:20250330T010000
END:DAYLIGHT
BEGIN:STANDARD
TZOFFSETFROM:+0200
TZOFFSETTO:+0100
TZNAME:CET
DTSTART:20251026T010000
END:STANDARD
BEGIN:DAYLIGHT
TZOFFSETFROM:+0100
TZOFFSETTO:+0200
TZNAME:CEST
DTSTART:20260329T010000
END:DAYLIGHT
BEGIN:STANDARD
TZOFFSETFROM:+0200
TZOFFSETTO:+0100
TZNAME:CET
DTSTART:20261025T010000
END:STANDARD
BEGIN:DAYLIGHT
TZOFFSETFROM:+0100
TZOFFSETTO:+0200
TZNAME:CEST
DTSTART:20270328T010000
END:DAYLIGHT
BEGIN:STANDARD
TZOFFSETFROM:+0200
TZOFFSETTO:+0100
TZNAME:CET
DTSTART:20271031T010000
END:STANDARD
END:VTIMEZONE
BEGIN:VEVENT
DTSTART;TZID=Europe/Berlin:20260111T120000
DTEND;TZID=Europe/Berlin:20260111T150000
DTSTAMP:20260424T142816
CREATED:20260104T202340Z
LAST-MODIFIED:20260104T202807Z
UID:7433-1768132800-1768143600@www.tcgarstedt.de
SUMMARY:Neujahrsempfang 2026
DESCRIPTION:Beim Neujahrsempfang am 11. Januar wollen wir in den Ansprachen das Jahr 2025 noch einmal Revue passieren lassen und auch auf die nächsten Projekte schauen. \nIm Frühjahr beginnen die Arbeiten an zwei neuen Vorhaben\, die pünktlich zum Start der Freiluftsaison abgeschlossen sein werden. \nWeiterhin ehren wir an diesem Tag auch den „Arbeitsdienstler des Jahres“\, der eine neu gestaltete Trophäe erhalten wird. \nNiki’s Lounge: \nEs wird angegrillt\, die Wurst kostet 1\,50 €.\nDie Einnahmen vom Grill werden wir für den Verein spenden und neue Vorhaben unterstützen. Bringt also guten Hunger mit. \nAllen TCG‘lern wünschen wir ein gutes 2026 bei bester Gesundheit und möglichst vielen sportlichen Erfolgen. \nEuer Vorstand
URL:https://www.tcgarstedt.de/event/neujahrsempfang-2026/
LOCATION:TC Garstedt\, Ochsenzoller Str. 64b\, Norderstedt\, 22848\, Deutschland
CATEGORIES:Schlagzeilen
END:VEVENT
END:VCALENDAR