BEGIN:VCALENDAR
VERSION:2.0
PRODID:-//TC GARSTEDT - ECPv6.15.20//NONSGML v1.0//EN
CALSCALE:GREGORIAN
METHOD:PUBLISH
X-ORIGINAL-URL:https://www.tcgarstedt.de
X-WR-CALDESC:Veranstaltungen für TC GARSTEDT
REFRESH-INTERVAL;VALUE=DURATION:PT1H
X-Robots-Tag:noindex
X-PUBLISHED-TTL:PT1H
BEGIN:VTIMEZONE
TZID:Europe/Berlin
BEGIN:DAYLIGHT
TZOFFSETFROM:+0100
TZOFFSETTO:+0200
TZNAME:CEST
DTSTART:20250330T010000
END:DAYLIGHT
BEGIN:STANDARD
TZOFFSETFROM:+0200
TZOFFSETTO:+0100
TZNAME:CET
DTSTART:20251026T010000
END:STANDARD
BEGIN:DAYLIGHT
TZOFFSETFROM:+0100
TZOFFSETTO:+0200
TZNAME:CEST
DTSTART:20260329T010000
END:DAYLIGHT
BEGIN:STANDARD
TZOFFSETFROM:+0200
TZOFFSETTO:+0100
TZNAME:CET
DTSTART:20261025T010000
END:STANDARD
BEGIN:DAYLIGHT
TZOFFSETFROM:+0100
TZOFFSETTO:+0200
TZNAME:CEST
DTSTART:20270328T010000
END:DAYLIGHT
BEGIN:STANDARD
TZOFFSETFROM:+0200
TZOFFSETTO:+0100
TZNAME:CET
DTSTART:20271031T010000
END:STANDARD
END:VTIMEZONE
BEGIN:VEVENT
DTSTART;TZID=Europe/Berlin:20260425T160000
DTEND;TZID=Europe/Berlin:20260425T220000
DTSTAMP:20260424T092056
CREATED:20260415T101140Z
LAST-MODIFIED:20260415T101140Z
UID:7462-1777132800-1777154400@www.tcgarstedt.de
SUMMARY:Eröffnungsturnier Sommer 2026
DESCRIPTION:Pünktlich zum Start der Sommersaison haben wir am 25. April unser Eröffnungsturnier mit Flutlicht auf der Anlage. Meldet euch gleich noch an! Listen hängen im Flur oder auch gerne direkt bei Domi\, Simone oder mir melden. Wir freuen uns auf zahlreiche Teilnehmer
URL:https://www.tcgarstedt.de/event/eroeffnungsturnier-sommer-2026/
LOCATION:TC Garstedt\, Ochsenzoller Str. 64b\, Norderstedt\, 22848\, Deutschland
END:VEVENT
BEGIN:VEVENT
DTSTART;TZID=Europe/Berlin:20260430T200000
DTEND;TZID=Europe/Berlin:20260430T233000
DTSTAMP:20260424T092056
CREATED:20240226T194143Z
LAST-MODIFIED:20260222T233258Z
UID:7193-1777579200-1777591800@www.tcgarstedt.de
SUMMARY:Tanz in den Mai 2026
DESCRIPTION:
URL:https://www.tcgarstedt.de/event/tanz-in-den-mai-2026/
LOCATION:TC Garstedt\, Ochsenzoller Str. 64b\, Norderstedt\, 22848\, Deutschland
END:VEVENT
END:VCALENDAR